BEGIN:VCALENDAR
PRODID:-//Veranstaltung//EN
VERSION:2.0
CALSCALE:GREGORIAN
BEGIN:VEVENT
DTSTART;VALUE=DATE-TIME:20240406T000000
DTEND;VALUE=DATE-TIME:20240406T235959
SUMMARY:Taller de educación cívica sobre el tema «Europa» en Almada, Portugal
LOCATION:
DESCRIPTION:Serie de talleres sobre la educación cívica en Portugal
UID:
END:VEVENT
END:VCALENDAR