BEGIN:VCALENDAR
PRODID:-//Veranstaltung//EN
VERSION:2.0
CALSCALE:GREGORIAN
BEGIN:VEVENT
DTSTART;VALUE=DATE-TIME:20240511T000000
DTEND;VALUE=DATE-TIME:20240511T235959
SUMMARY:Workshop Politische Bildung zum Thema „Europa“ in Braga, Portugal
LOCATION:
DESCRIPTION:Workshop-Serie zur Politischen Bildung in Portugal
UID:
END:VEVENT
END:VCALENDAR