BEGIN:VCALENDAR
PRODID:-//Veranstaltung//EN
VERSION:2.0
CALSCALE:GREGORIAN
BEGIN:VEVENT
DTSTART;VALUE=DATE-TIME:20240905T180000
DTEND;VALUE=DATE-TIME:20240905T100000
SUMMARY:Cine Fórum: La vida de los otros
LOCATION:
DESCRIPTION:La KAS Perú organiza la actividad: "Cine Fórum: La vida de los otros". Esta galardonada película ganó el Oscar a mejor película extranjera en el año 2007 y  está ambientada en la época de la República Democrática Alemana.
UID:
END:VEVENT
END:VCALENDAR