BEGIN:VCALENDAR
PRODID:-//Veranstaltung//EN
VERSION:2.0
CALSCALE:GREGORIAN
BEGIN:VEVENT
DTSTART;VALUE=DATE-TIME:20241023T000000
DTEND;VALUE=DATE-TIME:20241024T235959
SUMMARY:Das Rule of Law FORUM 2024
LOCATION:
DESCRIPTION:Das Rechtsstaatsprogramm Nahost & Nordafrika der Konrad-Adenauer-Stiftung (KAS), die Youssef SADER Foundation for Legal Culture und der UNESCO Lehrstuhl für Umweltrecht und nachhaltige Entwicklung der Hamad Bin Khalifa Universität, haben die Ehre, zum bevorstehenden Rule of Law FORUM in Doha, Katar einzuladen.

Das FORUM ist ein jährliches Flagship-Event des Rechtsstaatsprogramms.
UID:
END:VEVENT
END:VCALENDAR