BEGIN:VCALENDAR
PRODID:-//Veranstaltung//EN
VERSION:2.0
CALSCALE:GREGORIAN
BEGIN:VEVENT
DTSTART;VALUE=DATE-TIME:20241023T000000
DTEND;VALUE=DATE-TIME:20241024T235959
SUMMARY:The Rule of Law FORUM 2024
LOCATION:
DESCRIPTION:The Konrad-Adenauer-Stiftung (KAS) Rule of Law Programme Middle East and North Africa, in partnership with the Youssef SADER Foundation for Legal Culture and the UNESCO Chair on Environmental Law and Sustainable Development at Hamad Bin Khalifa-University, is pleased to announce the upcoming Rule of Law FORUM – 2nd Edition.
UID:
END:VEVENT
END:VCALENDAR