BEGIN:VCALENDAR
PRODID:-//Veranstaltung//EN
VERSION:2.0
CALSCALE:GREGORIAN
BEGIN:VEVENT
DTSTART;VALUE=DATE-TIME:20241003T000000
DTEND;VALUE=DATE-TIME:20241003T235959
SUMMARY:Constitutional Symposium - Meeting of the Levant Constitutional Courts
LOCATION:
DESCRIPTION:The Konrad-Adenauer-Stiftung Rule of Law Programme Middle East and North Africa, in collaboration with the Lebanese Constitutional Council, is honored to present the Constitutional Symposium - Meeting of the Levant Constitutional Courts.
UID:
END:VEVENT
END:VCALENDAR