BEGIN:VCALENDAR
PRODID:-//Veranstaltung//EN
VERSION:2.0
CALSCALE:GREGORIAN
BEGIN:VEVENT
DTSTART;VALUE=DATE-TIME:20240826T000000
DTEND;VALUE=DATE-TIME:20240827T235959
SUMMARY:Europäische Summer School in Pamplona, Navarra
LOCATION:
DESCRIPTION:Die VI. Europäischen Sommerkurse fanden am 26., 27. und 28. August in Pamplona (Navarra) statt.  Die Sommerkuse werden jeden Sommer von der Stiftung Diario de Navarra und Equipo Europa organisiert um über aktuelle Themen, welche die Europäische Union als Ganzes betreffen, zu informieren und eine Debatte anzustoßen.

Die Europäische Summer School, in Kollaboration mit dem Equipo Europa Navarra, ist ein Ort für die Reflexion zwischen verschiedenen politischen Akteuren, der Zivilgesellschaft, jungen Menschen, dem Privatsektor, Medien und den staatlichen und europäischen Institutionen um die aktuellen Herausforderungen in Europa gemeinsam anzugehen.
UID:
END:VEVENT
END:VCALENDAR