BEGIN:VCALENDAR
PRODID:-//Veranstaltung//EN
VERSION:2.0
CALSCALE:GREGORIAN
BEGIN:VEVENT
DTSTART;VALUE=DATE-TIME:20240826T000000
DTEND;VALUE=DATE-TIME:20240827T235959
SUMMARY:Cursos Europeos de Verano en Pamplona, Navarra
LOCATION:
DESCRIPTION:Los VI Cursos Europeos de Verano tendrán lugar el 26, 27 y 28 de agosto en Pamplona (Navarra). Están organizados por Fundación Diario de Navarra y Equipo Europa con el objetivo de dar información y crear debate sobre cuestiones de actualidad que afectan al conjunto de la Unión Europea. Los CEV son un excelente espacio de reflexión entre los diferentes actores políticos, la sociedad civil, los jóvenes, el sector privado, los medios de comunicación y las instituciones estatales y europeas para abordar de forma conjunta los retos a los que nos enfrentamos.
UID:
END:VEVENT
END:VCALENDAR