BEGIN:VCALENDAR
PRODID:-//Veranstaltung//EN
VERSION:2.0
CALSCALE:GREGORIAN
BEGIN:VEVENT
DTSTART;VALUE=DATE-TIME:20240826T000000
DTEND;VALUE=DATE-TIME:20240827T235959
SUMMARY:Cursos Europeus de verão em Pamplona, Navarra
LOCATION:
DESCRIPTION:Os VI Cursos Europeus de verão realizar-se-ão nos dias 26, 27 e 28 de agosto em Pamplona (Navarra). São organizados pela Fundação Diario de Navarra e pela Equipo Europa, com o objetivo de informar e debater questões actuais que afectam a União Europeia no seu conjunto.

Os Cursos Europeus de verão são um excelente espaço de reflexão entre os diferentes actores políticos, a sociedade civil, os jovens, o sector privado, os meios de comunicação social e as instituições estatais e europeias, para abordar conjuntamente os desafios que enfrentamos.
UID:
END:VEVENT
END:VCALENDAR