BEGIN:VCALENDAR
PRODID:-//Veranstaltung//EN
VERSION:2.0
CALSCALE:GREGORIAN
BEGIN:VEVENT
DTSTART;VALUE=DATE-TIME:20241030T000000
DTEND;VALUE=DATE-TIME:20241030T235959
SUMMARY:Conexión dual sector tecnologías de información y comunicación
LOCATION:
DESCRIPTION:Público Meta: Cámaras empresariales y empresas estratégicas interesadas en ejecutar programas duales en TI.
UID:
END:VEVENT
END:VCALENDAR