BEGIN:VCALENDAR
PRODID:-//Veranstaltung//EN
VERSION:2.0
CALSCALE:GREGORIAN
BEGIN:VEVENT
DTSTART;VALUE=DATE-TIME:20241017T180000
DTEND;VALUE=DATE-TIME:20241017T194500
SUMMARY:Countdown zur COP29 – Ansätze für einen effizienten und pragmatischen Klimaschutz
LOCATION:Berlin
DESCRIPTION:Der Weg zur Klimaneutralität stellt die Menschen weltweit vor enorme Herausforderungen. Einerseits geht es um die Dekarbonisierung der Wirtschaft und Industrie, andererseits um die Anpassung an die Folgen des Klimawandels. Um all dies zu bewerkstelligen, brauchen wir wirksame Kooperationen, die helfen, die gesetzten Klimaziele zu erreichen, ohne jedoch durch die tiefgreifenden Veränderungen den Zusammenhalt in den Gesellschaften und die ökonomische Wettbewerbsfähigkeit zu gefährden. Daher müssen wir Partnerschaften pragmatisch und im gegenseitigen Interesse entwickeln und mit dem nötigen Umsetzungswillen angehen.
UID:
END:VEVENT
END:VCALENDAR