BEGIN:VCALENDAR
PRODID:-//Veranstaltung//EN
VERSION:2.0
CALSCALE:GREGORIAN
BEGIN:VEVENT
DTSTART;VALUE=DATE-TIME:20241118T100000
DTEND;VALUE=DATE-TIME:20241118T160000
SUMMARY:"Gemeinsam Mittendrin" - Europa (mit-) gestalten
LOCATION:
DESCRIPTION:Unter der Schirmherrschaft von Minister Karl-Josef Laumann MdL bieten wir für junge Menschen mit und ohne Behinderungen einen Tag an, wo wir uns mit dem Thema Europa auseinandersetzen und "Gemeinsam Mittendrin" sind.
UID:
END:VEVENT
END:VCALENDAR