BEGIN:VCALENDAR
PRODID:-//Veranstaltung//EN
VERSION:2.0
CALSCALE:GREGORIAN
BEGIN:VEVENT
DTSTART;VALUE=DATE-TIME:20240927T080000
DTEND;VALUE=DATE-TIME:20240927T173000
SUMMARY:Mekong International Forum 2024
LOCATION:
DESCRIPTION:The Mekong International Forum 2024 is expected to:
(1)	Enhance understanding of the geopolitical and energy landscape in the Mekong Sub-Region
(2)	Identify of best practices and policy synergies for regional energy transition
(3)	Strengthen multistakeholder engagement in green energy development
(4)	Deliver strategic recommendations for technology adoption and policy harmonization
UID:
END:VEVENT
END:VCALENDAR