BEGIN:VCALENDAR
PRODID:-//Veranstaltung//EN
VERSION:2.0
CALSCALE:GREGORIAN
BEGIN:VEVENT
DTSTART;VALUE=DATE-TIME:20241128T173000
DTEND;VALUE=DATE-TIME:20241128T210000
SUMMARY:Heute wachsen für morgen
LOCATION:Berlin
DESCRIPTION:Die deutsche Wirtschaft steht vor der Herausforderung mehrfacher Strukturwandel. Dazu zählen veränderte Handelsbeziehungen, demografische Veränderungen, technologische Transformation und der Klimawandel. Diese erfordern grundlegende Anpassungen unserer Lebens- und Arbeitsweisen, die das Wirtschaftswachstum beeinflussen. Auf unserer Konferenz diskutieren wir mit Expertinnen und Experten, warum Wachstum notwendig ist, welche Probleme es birgt und welche Rahmenbedingungen für nachhaltiges und sozialverträgliches Wachstum nötig sind.
UID:
END:VEVENT
END:VCALENDAR