BEGIN:VCALENDAR
PRODID:-//Veranstaltung//EN
VERSION:2.0
CALSCALE:GREGORIAN
BEGIN:VEVENT
DTSTART;VALUE=DATE-TIME:20251029T170000
DTEND;VALUE=DATE-TIME:20251030T211500
SUMMARY:Role Models: Wir brauchen Weibliche Vorbilder!
LOCATION:
DESCRIPTION:
UID:
END:VEVENT
END:VCALENDAR