BEGIN:VCALENDAR
PRODID:-//Veranstaltung//EN
VERSION:2.0
CALSCALE:GREGORIAN
BEGIN:VEVENT
DTSTART;VALUE=DATE-TIME:20241211T110000
DTEND;VALUE=DATE-TIME:20241211T235959
SUMMARY:Stabil oder fragil? EU- und NATO-Land Rumänien nach der Wahl
LOCATION:
DESCRIPTION:Marion Sendker spricht mit Katja Plate, Leiterin des Auslandsbüros in Rumänien der Konrad-Adenauer-Stiftung, über das Superwahljahr in Rumänien und die von den Ergebnissen zu erwartenden Entwicklungen.
UID:
END:VEVENT
END:VCALENDAR