BEGIN:VCALENDAR
PRODID:-//Veranstaltung//EN
VERSION:2.0
CALSCALE:GREGORIAN
BEGIN:VEVENT
DTSTART;VALUE=DATE-TIME:20241129T190000
DTEND;VALUE=DATE-TIME:20241129T200000
SUMMARY:Kulturabend mit Eva Menasse
LOCATION:Berlin
DESCRIPTION:Wie wirkt sich die Digitalisierung auf unsere Gesellschaft aus? Dazu liest Eva Menasse aus ihrem Buch "Alles und nichts sagen" und spricht mit Prof. Dr. Norbert Lammert über die digitale Moderne, Soziale Medien und deren Folgen für unsere Debattenkultur.
UID:
END:VEVENT
END:VCALENDAR