BEGIN:VCALENDAR
PRODID:-//Veranstaltung//EN
VERSION:2.0
CALSCALE:GREGORIAN
BEGIN:VEVENT
DTSTART;VALUE=DATE-TIME:20241023T120000
DTEND;VALUE=DATE-TIME:20241023T140000
SUMMARY:Трудові ресурси для повоєнного відновлення України
LOCATION:
DESCRIPTION:23 жовтня 2024 р. у форматі експертної онлайн-дискусії Центр Разумкова презентує аналітичні матеріали на тему «Трудові ресурси для повоєнного відновлення: стан, проблеми, шляхи розв’язання», підготовлені в рамках проєкту, що здійснюється за підтримки   Представництва Фонду Конрада Аденауєра в Україні.
UID:
END:VEVENT
END:VCALENDAR