BEGIN:VCALENDAR
PRODID:-//Veranstaltung//EN
VERSION:2.0
CALSCALE:GREGORIAN
BEGIN:VEVENT
DTSTART;VALUE=DATE-TIME:20241112T130000
DTEND;VALUE=DATE-TIME:20241112T143000
SUMMARY:Assessing Public Opinion
LOCATION:
DESCRIPTION:
UID:
END:VEVENT
END:VCALENDAR