BEGIN:VCALENDAR
PRODID:-//Veranstaltung//EN
VERSION:2.0
CALSCALE:GREGORIAN
BEGIN:VEVENT
DTSTART;VALUE=DATE-TIME:20250105T140000
DTEND;VALUE=DATE-TIME:20250105T163000
SUMMARY:Lebendige Erinnerungen an Konrad Adenauer
LOCATION:Königswinter
DESCRIPTION:Gemeinsam laden die Konrad-Adenauer-Stiftung und die Stiftung Bundeskanzler Adenauerhaus zum Jahresauftakt auf den Petersberg bei Bonn ein.
UID:
END:VEVENT
END:VCALENDAR