BEGIN:VCALENDAR
PRODID:-//Veranstaltung//EN
VERSION:2.0
CALSCALE:GREGORIAN
BEGIN:VEVENT
DTSTART;VALUE=DATE-TIME:20241118T180000
DTEND;VALUE=DATE-TIME:20241118T235959
SUMMARY:Dorfliebe - Politik persönlich nehmen
LOCATION:Braunfels-Neukirchen
DESCRIPTION:Politik berührt uns immer und überall – es gibt mehr als genug
Gründe sie persönlich zu nehmen. Erzählen Sie uns von dem,
was Sie bewegt, was Ihre Dorfgemeinschaft ausmacht, aber auch
welche Veränderung Sie sich von der Politik wünschen.
Der nächste Halt der Dorfliebe-Tour ist dafür genau die richtige
Gelegenheit!
UID:
END:VEVENT
END:VCALENDAR