BEGIN:VCALENDAR
PRODID:-//Veranstaltung//EN
VERSION:2.0
CALSCALE:GREGORIAN
BEGIN:VEVENT
DTSTART;VALUE=DATE-TIME:20241205T000000
DTEND;VALUE=DATE-TIME:20241205T235959
SUMMARY:Zuwanderung und Zugehörigkeit
LOCATION:
DESCRIPTION:Wir laden Sie herzlich ein zu unserer neuen Veranstaltungsreihe „Rheingauer Gespräche zu Staat und Recht“, die wir zusammen mit der EBS Universität für Wirtschaft und Recht in Oestrich-Winkel etablieren wollen. Gleich zum Auftakt widmen wir uns einem der prägendsten Themen unserer Zeit: Migration. Welche Instrumente gibt es, um Zuwanderung mit Zugehörigkeit zu verknüpfen? Darüber wollen wir wissenschaftlich und politisch diskutieren und freuen uns auch auf Ihre Perspektive!
UID:
END:VEVENT
END:VCALENDAR