BEGIN:VCALENDAR
PRODID:-//Veranstaltung//EN
VERSION:2.0
CALSCALE:GREGORIAN
BEGIN:VEVENT
DTSTART;VALUE=DATE-TIME:20241108T000000
DTEND;VALUE=DATE-TIME:20241108T235959
SUMMARY:La Nueva Visión Geopolítica del Perú: Oportunidades y Desafíos
LOCATION:
DESCRIPTION:La Konrad Adenauer, oficina en el Perú junto al Centro de Altos Estudios Nacionales CAEN, a través de su Instituto de Investigación: General de División José del Carmen Marín Arista, organizarán el 8 de noviembre la VII Conferencia Anual de Seguridad y Defensa CASEDE 2024: “La Nueva Visión Geopolítica del Perú: Oportunidades y Desafíos”.
UID:
END:VEVENT
END:VCALENDAR