BEGIN:VCALENDAR
PRODID:-//Veranstaltung//EN
VERSION:2.0
CALSCALE:GREGORIAN
BEGIN:VEVENT
DTSTART;VALUE=DATE-TIME:20250311T090000
DTEND;VALUE=DATE-TIME:20250311T233000
SUMMARY:Cafe Kyiv 2025
LOCATION:Berlin
DESCRIPTION:For more than 1,000 days, Ukrainians have been fighting tirelessly for their and our freedom. With this in mind, the Konrad Adenauer Foundation, together with numerous partner organisations, is organising the third edition of ‘Cafe Kyiv’ at the Colosseum Berlin on 11 March 2025.
UID:
END:VEVENT
END:VCALENDAR