BEGIN:VCALENDAR
PRODID:-//Veranstaltung//EN
VERSION:2.0
CALSCALE:GREGORIAN
BEGIN:VEVENT
DTSTART;VALUE=DATE-TIME:20241113T090000
DTEND;VALUE=DATE-TIME:20241113T140000
SUMMARY:The influence of foreign actors on national security of Kosovo
LOCATION:Pristina
DESCRIPTION:Kosovo faces complex and evolving national security challenges, shaped by both internal dynamics and external influences, as it advances on its path toward EU integration. In collaboration with  the Kosovar Centre for Security Studies (KCSS) we have developed two papers — Confronting Kosovo’s Internal and External Threats on the Road to EU Accession and Kosovo in Russian Foreign Policy Discourse—which will be presented at this event
UID:
END:VEVENT
END:VCALENDAR