BEGIN:VCALENDAR
PRODID:-//Veranstaltung//EN
VERSION:2.0
CALSCALE:GREGORIAN
BEGIN:VEVENT
DTSTART;VALUE=DATE-TIME:20241201T190000
DTEND;VALUE=DATE-TIME:20241202T183000
SUMMARY:Principles of Pancasila Economics
LOCATION:
DESCRIPTION:Focus Group Discussion: Principles of Pancasila Economics is a forum for The Formation Team in Formulating the Principles of Pancasila Economics comprises economic experts, professors, government representatives and advisors. This forum formulates the basic principles of Pancasila economics as a guide in implementing government policies. The Formation Team in Formulating the Principles of Pancasila Economics comprises economic experts, professors, government representatives and advisors. This Focus Group Discussion is expected to be the basis for government policies and literature related to the Principles of Pancasila Economics. The joint statement of the formators is scheduled to be the basis for compiling the Guide to the Principles of Pancasila Economics.
UID:
END:VEVENT
END:VCALENDAR