BEGIN:VCALENDAR
PRODID:-//Veranstaltung//EN
VERSION:2.0
CALSCALE:GREGORIAN
BEGIN:VEVENT
DTSTART;VALUE=DATE-TIME:20250109T174500
DTEND;VALUE=DATE-TIME:20250109T191500
SUMMARY:Wachstumsaussichten 2025 und der Wirtschaftsstandort Deutschland
LOCATION:Köln
DESCRIPTION:Gründe der hartnäckigen Stagnation - ordnungspolitische Handlungsoptionen zur Staatsmodernisierung
UID:
END:VEVENT
END:VCALENDAR