BEGIN:VCALENDAR
PRODID:-//Veranstaltung//EN
VERSION:2.0
CALSCALE:GREGORIAN
BEGIN:VEVENT
DTSTART;VALUE=DATE-TIME:20241125T190000
DTEND;VALUE=DATE-TIME:20241125T220000
SUMMARY:Desafíos y Buenas Prácticas en Recaudación Municipal 2024
LOCATION:
DESCRIPTION:La Konrad Adenauer Stiftung, oficina en el Perú presentará el libro "Desafíos y Buenas Prácticas en Recaudación Municipal 2024" una investigación sobre un  análisis profundo y práctico sobre los desafíos y las mejores prácticas en la recaudación tributaria municipal en el Perú, con un enfoque particular en las municipalidades de Lima Metropolitana.
UID:
END:VEVENT
END:VCALENDAR