BEGIN:VCALENDAR
PRODID:-//Veranstaltung//EN
VERSION:2.0
CALSCALE:GREGORIAN
BEGIN:VEVENT
DTSTART;VALUE=DATE-TIME:20241203T180000
DTEND;VALUE=DATE-TIME:20241203T200000
SUMMARY:Sind wir noch zu retten?
LOCATION:Vienna
DESCRIPTION:
UID:
END:VEVENT
END:VCALENDAR