BEGIN:VCALENDAR
PRODID:-//Veranstaltung//EN
VERSION:2.0
CALSCALE:GREGORIAN
BEGIN:VEVENT
DTSTART;VALUE=DATE-TIME:20250425T160000
DTEND;VALUE=DATE-TIME:20250426T140000
SUMMARY:„Zeitenwende“ und Zeitalter „Polykrise“
LOCATION:Wiesbaden
DESCRIPTION:Nachdem vor drei Jahren eine "Zeitenwende" ausgerufen wurde und Beobachter angesichts vielfältiger Bedrohungen eine dauerhafte "Polykrise" diagnostiziert haben, stehen nicht nur Bund und Länder, sondern auch Städte, Gemeinden und Landkreise vor der Herausforderung, Bürgerinnen und Bürger wirksam zu schützen.
UID:
END:VEVENT
END:VCALENDAR