BEGIN:VCALENDAR
PRODID:-//Veranstaltung//EN
VERSION:2.0
CALSCALE:GREGORIAN
BEGIN:VEVENT
DTSTART;VALUE=DATE-TIME:20250404T000000
DTEND;VALUE=DATE-TIME:20250405T235959
SUMMARY:Heimat ist unsere Stärke: Grundlagen erfolgreicher Kommunalpolitik
LOCATION:Stuttgart
DESCRIPTION:Oberbürgermeisterin a.D. Margret Mergen, stellv. Vorsitzende des Normenkontrollrates Baden-Württemberg,
stellt in diesem Seminar inhaltliche, rechtliche und organisatorische Grundlagen erfolgreicher Kommunalpolitik vor.
UID:
END:VEVENT
END:VCALENDAR