BEGIN:VCALENDAR
PRODID:-//Veranstaltung//EN
VERSION:2.0
CALSCALE:GREGORIAN
BEGIN:VEVENT
DTSTART;VALUE=DATE-TIME:20241118T000000
DTEND;VALUE=DATE-TIME:20241122T235959
SUMMARY:Arbeitskreis Junge Außenpolitik erkundet neue Perspektiven der amerikanischen Außenpolitik
LOCATION:
DESCRIPTION:Knapp 20 Mitglieder des Arbeitskreises Junge Außenpolitik besuchten Washington und Chicago, um sich nach den Wahlen mit amerikanischen Experten über die zukünftige transatlantische Zusammenarbeit auszutauschen. Zu ihren Gesprächspartnern gehörten Vertreter von Think Tanks, internationalen Organisationen und politischen Interessensvertretungen. Der Arbeitskreis wurde 2001 von der Konrad-Adenauer-Stiftung ins Leben gerufen, um jüngere, außenpolitisch interessierte und versierte Persönlichkeiten zusammenzubringen.
UID:
END:VEVENT
END:VCALENDAR