BEGIN:VCALENDAR
PRODID:-//Veranstaltung//EN
VERSION:2.0
CALSCALE:GREGORIAN
BEGIN:VEVENT
DTSTART;VALUE=DATE-TIME:20241118T000000
DTEND;VALUE=DATE-TIME:20241122T235959
SUMMARY:Young Foreign Policy Experts Explore New Perspectives in American Foreign Policy
LOCATION:
DESCRIPTION:About 20 members of the Working Group of Young Foreign Policy Experts visited Washington, DC, and Chicago, IL, to discuss future transatlantic cooperation after the elections with American experts. Their discussion partners included representatives from think tanks, international organizations, and political interest groups. The Working Group of Young Foreign Policy Experts was initiated in 2001 by the Konrad-Adenauer-Stiftung to bring together younger individuals interested and experienced in foreign policy.
UID:
END:VEVENT
END:VCALENDAR