BEGIN:VCALENDAR
PRODID:-//Veranstaltung//EN
VERSION:2.0
CALSCALE:GREGORIAN
BEGIN:VEVENT
DTSTART;VALUE=DATE-TIME:20250523T000000
DTEND;VALUE=DATE-TIME:20250524T160000
SUMMARY:Heimat ist unsere Stärke: Grundlagen erfolgreicher Kommunalpolitik
LOCATION:Koblenz
DESCRIPTION:Robert Hein und Josef Oster MdB stellen in diesem Seminar inhaltliche, rechtliche und organisatorische Grundlagen erfolgreicher Kommunalpolitik vor.
UID:
END:VEVENT
END:VCALENDAR