BEGIN:VCALENDAR
PRODID:-//Veranstaltung//EN
VERSION:2.0
CALSCALE:GREGORIAN
BEGIN:VEVENT
DTSTART;VALUE=DATE-TIME:20241203T000000
DTEND;VALUE=DATE-TIME:20241203T235959
SUMMARY:Her Leadership Matters: Transforming Politics for a Better Future
LOCATION:
DESCRIPTION:This event brought together women leaders from around the globe to discuss and strategize on the pivotal role of women in shaping international politics. The panelists from Argentina, Iraq, Ukraine, and the U.S. explored innovative approaches to overcoming gender barriers and empowering women to take on leadership roles in different regions of the world. This panel discussion was a side event of the IDU Forum in Washington, DC.
UID:
END:VEVENT
END:VCALENDAR