BEGIN:VCALENDAR
PRODID:-//Veranstaltung//EN
VERSION:2.0
CALSCALE:GREGORIAN
BEGIN:VEVENT
DTSTART;VALUE=DATE-TIME:20241204T000000
DTEND;VALUE=DATE-TIME:20241204T235959
SUMMARY:Energy Connectivity, Energy Security and Innovation
LOCATION:
DESCRIPTION:Eine geschlossene Veranstaltung für Energie- und Konnektivitätsexperten
UID:
END:VEVENT
END:VCALENDAR