BEGIN:VCALENDAR
PRODID:-//Veranstaltung//EN
VERSION:2.0
CALSCALE:GREGORIAN
BEGIN:VEVENT
DTSTART;VALUE=DATE-TIME:20250718T160000
DTEND;VALUE=DATE-TIME:20250720T140000
SUMMARY:Heimat ist unsere Stärke:  Erfolgreich steuern und führen im Fraktionsmanagement
LOCATION:Ulm
DESCRIPTION:Oberbürgermeister a.D. Gunter Czisch, Richter am Verfassungsgerichtshof für das Land Baden-Württemberg, und Thorsten Weber stellen inhaltliche, methodische und organisatorische Grundlagen erfolgreicher Fraktionsarbeit vor.
UID:
END:VEVENT
END:VCALENDAR