BEGIN:VCALENDAR
PRODID:-//Veranstaltung//EN
VERSION:2.0
CALSCALE:GREGORIAN
BEGIN:VEVENT
DTSTART;VALUE=DATE-TIME:20250829T160000
DTEND;VALUE=DATE-TIME:20250831T140000
SUMMARY:Heimat ist unsere Stärke:  Grundlagen erfolgreicher Kommunalpolitik
LOCATION:
DESCRIPTION:Robert Hein und Rechtsanwalt Marius Schwabe stellen in diesem Seminar inhaltliche, rechtliche und organisatorische Grundlagen erfolgreicher Kommunalpolitik vor
UID:
END:VEVENT
END:VCALENDAR