BEGIN:VCALENDAR
PRODID:-//Veranstaltung//EN
VERSION:2.0
CALSCALE:GREGORIAN
BEGIN:VEVENT
DTSTART;VALUE=DATE-TIME:20251128T160000
DTEND;VALUE=DATE-TIME:20251129T160000
SUMMARY:Heimat ist unsere Stärke: Grundlagen erfolgreicher Kommunalpolitik
LOCATION:
DESCRIPTION:Rechtsanwalt Marius Schwabe erläutert Grundlagen und konkrete Beispiele erfolgreciher politischer Kommunikation in Städten und Gemeinden
UID:
END:VEVENT
END:VCALENDAR