BEGIN:VCALENDAR
PRODID:-//Veranstaltung//EN
VERSION:2.0
CALSCALE:GREGORIAN
BEGIN:VEVENT
DTSTART;VALUE=DATE-TIME:20240701T000000
DTEND;VALUE=DATE-TIME:20241231T235959
SUMMARY:Rutas Ecuador
LOCATION:
DESCRIPTION:Programa diseñado para jóvenes de entre 15 y 25 años. Con una metodología ágil de 90 minutos, este proyecto busca fomentar una comprensión profunda de la democracia, el compromiso cívico y la cultura política en las nuevas generaciones.
UID:
END:VEVENT
END:VCALENDAR