BEGIN:VCALENDAR
PRODID:-//Veranstaltung//EN
VERSION:2.0
CALSCALE:GREGORIAN
BEGIN:VEVENT
DTSTART;VALUE=DATE-TIME:20250322T000000
DTEND;VALUE=DATE-TIME:20250322T143000
SUMMARY:Instagram: Grundlagen und Funktionen der Plattform
LOCATION:
DESCRIPTION:Soziale Medien sind heute unverzichtbar für eine erfolgreiche politische Kommunikation. Besonders Instagram hat sich zu einer zentralen Plattform entwickelt, um junge Zielgruppen effektiv zu erreichen. In diesem digitalen Workshop lernen Sie, wie Sie die Basics von Instagram einsetzen. Was ist wichtig auf der Plattform, wie posten und bearbeiten Sie Beiträge, Stories und Reels und wie Sie Instagram strategisch für Ihre politische Kommunikation nutzen können.
UID:
END:VEVENT
END:VCALENDAR