BEGIN:VCALENDAR
PRODID:-//Veranstaltung//EN
VERSION:2.0
CALSCALE:GREGORIAN
BEGIN:VEVENT
DTSTART;VALUE=DATE-TIME:20250129T190000
DTEND;VALUE=DATE-TIME:20250129T220000
SUMMARY:KI - Chance für Demokratie, Staat und Verwaltung?
LOCATION:Heilbronn
DESCRIPTION:Zum Wechsel des KAS-Fellows: Danke, Lars Zimmermann! Willkommen, Prof. Dr. Christoph M. Schmidt!
UID:
END:VEVENT
END:VCALENDAR