BEGIN:VCALENDAR
PRODID:-//Veranstaltung//EN
VERSION:2.0
CALSCALE:GREGORIAN
BEGIN:VEVENT
DTSTART;VALUE=DATE-TIME:20250403T000000
DTEND;VALUE=DATE-TIME:20250404T235959
SUMMARY:1945-2025 - 80e anniversaire de la fin de la Seconde Guerre mondiale et du retour à la paix
LOCATION:
DESCRIPTION:
UID:
END:VEVENT
END:VCALENDAR