BEGIN:VCALENDAR
PRODID:-//Veranstaltung//EN
VERSION:2.0
CALSCALE:GREGORIAN
BEGIN:VEVENT
DTSTART;VALUE=DATE-TIME:20260527T170000
DTEND;VALUE=DATE-TIME:20260610T183000
SUMMARY:Digitale Sprechstunde: Alles über unsere Stipendien erfahren!
LOCATION:Zoom-Konferenz
DESCRIPTION:Was bringt mir ein Stipendium? Was sollte ich bei der Bewerbung beachten? Und wie kann ich mich mit eigenen Ideen in die Förderung einbringen? Antworten gibt es in unseren digitalen Sprechstunden.
UID:
END:VEVENT
END:VCALENDAR