BEGIN:VCALENDAR
PRODID:-//Veranstaltung//EN
VERSION:2.0
CALSCALE:GREGORIAN
BEGIN:VEVENT
DTSTART;VALUE=DATE-TIME:20250118T120000
DTEND;VALUE=DATE-TIME:20250118T170000
SUMMARY:Hi-Story Telling. Wie integrieren wir die Geschichte lokaler Gemeinschaften in die des Kommunismus?
LOCATION:Bukarest
DESCRIPTION:
UID:
END:VEVENT
END:VCALENDAR