BEGIN:VCALENDAR
PRODID:-//Veranstaltung//EN
VERSION:2.0
CALSCALE:GREGORIAN
BEGIN:VEVENT
DTSTART;VALUE=DATE-TIME:20250118T120000
DTEND;VALUE=DATE-TIME:20250118T170000
SUMMARY:Hi-Story Telling. How do we integrate the history of local communities into that of communism?
LOCATION:Bucharest
DESCRIPTION:
UID:
END:VEVENT
END:VCALENDAR