BEGIN:VCALENDAR
PRODID:-//Veranstaltung//EN
VERSION:2.0
CALSCALE:GREGORIAN
BEGIN:VEVENT
DTSTART;VALUE=DATE-TIME:20250118T120000
DTEND;VALUE=DATE-TIME:20250118T170000
SUMMARY:Hi-Story Telling. Cum integrăm istoria comunității locale în istoria comunismului?
LOCATION:Bucureşti
DESCRIPTION:
UID:
END:VEVENT
END:VCALENDAR