BEGIN:VCALENDAR
PRODID:-//Veranstaltung//EN
VERSION:2.0
CALSCALE:GREGORIAN
BEGIN:VEVENT
DTSTART;VALUE=DATE-TIME:20250128T110000
DTEND;VALUE=DATE-TIME:20250128T130000
SUMMARY:Ukrainian Society, State and Church in Wartime. Church and Religion in Ukraine-2024
LOCATION:
DESCRIPTION:An expert discussion on 'Ukrainian Society, State and Church in Wartime. Church and Religion in Ukraine-2024' will be held on 28 January 2025 in Kyiv at the Ukrinform news agency. The event is organised by the Razumkov Centre and the  the Konrad Adenauer Foundation in Ukraine.
UID:
END:VEVENT
END:VCALENDAR