BEGIN:VCALENDAR
PRODID:-//Veranstaltung//EN
VERSION:2.0
CALSCALE:GREGORIAN
BEGIN:VEVENT
DTSTART;VALUE=DATE-TIME:20250207T133000
DTEND;VALUE=DATE-TIME:20250208T160000
SUMMARY:"Reden - Argumentieren - Überzeugen"
LOCATION:Baden-Baden
DESCRIPTION:
UID:
END:VEVENT
END:VCALENDAR