BEGIN:VCALENDAR
PRODID:-//Veranstaltung//EN
VERSION:2.0
CALSCALE:GREGORIAN
BEGIN:VEVENT
DTSTART;VALUE=DATE-TIME:20250515T160000
DTEND;VALUE=DATE-TIME:20250516T143000
SUMMARY:Netzwerk Nachwuchskräfte Städtebau</br>Eine Kooperation mit dem Deutschen Institut für Stadtbaukunst.
LOCATION:Frankfurt am Main
DESCRIPTION:Auf der Grundlage konkreter Erfahrungen und Praxisbeispiele zur Anwendung agiler Methoden und Arbeitsprozesse in Kommunalverwaltungen sprechen wir über das Potenzial von Agilität in der Kommunalpolitik: Wie wirkt sich Agilität auf die praktische Politik aus? Inwiefern können kommunalpolitische Aufgaben querschnittsorientiert besser gelöst werden und wie lässt sich eine von Zusammenarbeit geprägte Arbeitskultur etablieren?
UID:
END:VEVENT
END:VCALENDAR